BEGIN:VCALENDAR
VERSION:2.0
PRODID:-//wp-events-plugin.com//7.2.3.1//EN
TZID:America/Sao_Paulo
X-WR-TIMEZONE:America/Sao_Paulo
BEGIN:VEVENT
UID:2@apcrs.com.br
DTSTART;TZID=America/Sao_Paulo:20250826T150000
DTEND;TZID=America/Sao_Paulo:20250826T160000
DTSTAMP:20250826T175743Z
URL:https://www.apcrs.com.br/events/webinar-grupo-de-cultura-e-conscientiz
 acao-com-ceu-balzano
SUMMARY:II Webinar Cultura e Conscientização - Como Avaliar o Fator Human
 o na Segurança da Informação?
DESCRIPTION:Exclusivo para associados da APCRS
ATTACH;FMTTYPE=image/jpeg:https://www.apcrs.com.br/wp-content/uploads/2025
 /08/ceu-e1755287764621.jpg
LOCATION:#
END:VEVENT
BEGIN:VTIMEZONE
TZID:America/Sao_Paulo
X-LIC-LOCATION:America/Sao_Paulo
BEGIN:STANDARD
DTSTART:20240826T150000
TZOFFSETFROM:-0300
TZOFFSETTO:-0300
TZNAME:-03
END:STANDARD
END:VTIMEZONE
END:VCALENDAR