BEGIN:VCALENDAR
VERSION:2.0
PRODID:-//wp-events-plugin.com//7.2.3.1//EN
TZID:America/Sao_Paulo
X-WR-TIMEZONE:America/Sao_Paulo
BEGIN:VEVENT
UID:3@apcrs.com.br
DTSTART;TZID=America/Sao_Paulo:20250909T100000
DTEND;TZID=America/Sao_Paulo:20250909T110000
DTSTAMP:20250818T233033Z
URL:https://www.apcrs.com.br/events/apcrs-online-com-gruppen
SUMMARY:APCRS Online Set/25 - O Poder do SIEM no Centro da Operação
DESCRIPTION:Evento gratuito e aberto ao publico
ATTACH;FMTTYPE=image/jpeg:https://www.apcrs.com.br/wp-content/uploads/2025
 /08/CyberPOA-Setembro25-e1755371962594.png
LOCATION:https://zoom.us/meeting/register/Nl61X_1zTNKeXNfosgI0zA
END:VEVENT
BEGIN:VTIMEZONE
TZID:America/Sao_Paulo
X-LIC-LOCATION:America/Sao_Paulo
BEGIN:STANDARD
DTSTART:20240909T100000
TZOFFSETFROM:-0300
TZOFFSETTO:-0300
TZNAME:-03
END:STANDARD
END:VTIMEZONE
END:VCALENDAR