BEGIN:VCALENDAR
VERSION:2.0
PRODID:-//wp-events-plugin.com//7.2.3.1//EN
TZID:America/Sao_Paulo
X-WR-TIMEZONE:America/Sao_Paulo
BEGIN:VEVENT
UID:1@apcrs.com.br
DTSTART;TZID=America/Sao_Paulo:20250828T100000
DTEND;TZID=America/Sao_Paulo:20250828T110000
DTSTAMP:20250825T184936Z
URL:https://www.apcrs.com.br/events/apcrs-academy-evento
SUMMARY:APCRS Academy Ago/25 - Entendendo a Linguagem dos Negócios para Me
 lhor Defender Investimentos em Cybersecurity
DESCRIPTION:Exclusivo para associados da APCRS
ATTACH;FMTTYPE=image/jpeg:https://www.apcrs.com.br/wp-content/uploads/2025
 /08/tulia-e1755215976657.jpg
LOCATION:#
END:VEVENT
BEGIN:VTIMEZONE
TZID:America/Sao_Paulo
X-LIC-LOCATION:America/Sao_Paulo
BEGIN:STANDARD
DTSTART:20240828T100000
TZOFFSETFROM:-0300
TZOFFSETTO:-0300
TZNAME:-03
END:STANDARD
END:VTIMEZONE
END:VCALENDAR